BEGIN:VCALENDAR
VERSION:2.0
PRODID:-//destination.one//NONSGML destination.meta API//DE
X-WR-CALDESC:A calendar powered by destination.meta
X-WR-CALNAME:tecklenburger-land-tourismus Kalender via destination.meta
BEGIN:VEVENT
CATEGORIES:Vortrag/Lesung
CATEGORIES:Konzert divers
DESCRIPTION:\n\nmehr Informationen unter http://pages.destination.one/de/te
 cklenburger-land-tourismus/streaming/detail/Event/e_101259655/ich-m-cht-ei
 n-clown-sein-hanns-dieter-h-sch
DTEND;TZID=Europe/Berlin:20261011T190000
DTSTAMP:20260423T074721Z
DTSTART;TZID=Europe/Berlin:20261011T170000
GEO:52.138432;7.736191
LOCATION:Kulturkirche St. Christophorus\, Waldseestraße 1\, Ladbergen
SEQUENCE:0
SUMMARY:Ich möcht´ ein Clown sein“ (Hanns Dieter Hüsch)
UID:e_101259655_iv0
URL:http://pages.destination.one/de/tecklenburger-land-tourismus/streaming/
 detail/Event/e_101259655/ich-m-cht-ein-clown-sein-hanns-dieter-h-sch
END:VEVENT
BEGIN:VTIMEZONE
TZID:Europe/Berlin
X-LIC-LOCATION:Europe/Berlin
BEGIN:DAYLIGHT
DTSTART:19700329T020000
RRULE:FREQ=YEARLY;BYDAY=-1SU;BYMONTH=3
TZNAME:CEST
TZOFFSETFROM:+0100
TZOFFSETTO:+0200
END:DAYLIGHT
BEGIN:STANDARD
DTSTART:19701025T030000
RRULE:FREQ=YEARLY;BYDAY=-1SU;BYMONTH=10
TZNAME:CET
TZOFFSETFROM:+0200
TZOFFSETTO:+0100
END:STANDARD
END:VTIMEZONE
END:VCALENDAR
