BEGIN:VCALENDAR
VERSION:2.0
PRODID:-//destination.one//NONSGML destination.meta API//DE
X-WR-CALDESC:A calendar powered by destination.meta
X-WR-CALNAME:tecklenburger-land-tourismus Kalender via destination.meta
BEGIN:VEVENT
CATEGORIES:Kurs/Seminar/Hobby
CATEGORIES:Sonstiges
CATEGORIES:Führung/Besichtigung
CATEGORIES:Ausstellung
DESCRIPTION:\n\nmehr Informationen unter http://pages.destination.one/de/te
 cklenburger-land-tourismus/streaming/detail/Event/e_101259643/ausstellung-
 bildwelten
DTEND;TZID=Europe/Berlin:20260501T180000
DTSTAMP:20260423T074701Z
DTSTART;TZID=Europe/Berlin:20260501T110000
GEO:52.219745;7.811645
LOCATION:Torhaus Legge\, Markt 9\, Tecklenburg
ORGANIZER;CN=Stadt Tecklenburg - Kurverwaltung:mailto:info@tecklenburg-tour
 istik.de
RRULE:FREQ=WEEKLY;UNTIL=20260531T160000;BYDAY=SU
SEQUENCE:0
SUMMARY:Ausstellung "BILDWELTEN"
UID:e_101259643_iv0
URL:http://pages.destination.one/de/tecklenburger-land-tourismus/streaming/
 detail/Event/e_101259643/ausstellung-bildwelten
END:VEVENT
BEGIN:VEVENT
CATEGORIES:Kurs/Seminar/Hobby
CATEGORIES:Sonstiges
CATEGORIES:Führung/Besichtigung
CATEGORIES:Ausstellung
DESCRIPTION:\n\nmehr Informationen unter http://pages.destination.one/de/te
 cklenburger-land-tourismus/streaming/detail/Event/e_101259643/ausstellung-
 bildwelten
DTEND;TZID=Europe/Berlin:20260501T180000
DTSTAMP:20260423T074701Z
DTSTART;TZID=Europe/Berlin:20260501T140000
GEO:52.219745;7.811645
LOCATION:Torhaus Legge\, Markt 9\, Tecklenburg
ORGANIZER;CN=Stadt Tecklenburg - Kurverwaltung:mailto:info@tecklenburg-tour
 istik.de
RRULE:FREQ=WEEKLY;UNTIL=20260531T160000;BYDAY=SA
SEQUENCE:0
SUMMARY:Ausstellung "BILDWELTEN"
UID:e_101259643_iv1
URL:http://pages.destination.one/de/tecklenburger-land-tourismus/streaming/
 detail/Event/e_101259643/ausstellung-bildwelten
END:VEVENT
BEGIN:VTIMEZONE
TZID:Europe/Berlin
X-LIC-LOCATION:Europe/Berlin
BEGIN:DAYLIGHT
DTSTART:19700329T020000
RRULE:FREQ=YEARLY;BYDAY=-1SU;BYMONTH=3
TZNAME:CEST
TZOFFSETFROM:+0100
TZOFFSETTO:+0200
END:DAYLIGHT
BEGIN:STANDARD
DTSTART:19701025T030000
RRULE:FREQ=YEARLY;BYDAY=-1SU;BYMONTH=10
TZNAME:CET
TZOFFSETFROM:+0200
TZOFFSETTO:+0100
END:STANDARD
END:VTIMEZONE
END:VCALENDAR
