BEGIN:VCALENDAR
VERSION:2.0
PRODID:-//destination.one//NONSGML destination.meta API//DE
X-WR-CALDESC:A calendar powered by destination.meta
X-WR-CALNAME:tecklenburger-land-tourismus Kalender via destination.meta
BEGIN:VEVENT
CATEGORIES:Kurs/Seminar/Hobby
DESCRIPTION:\n\nmehr Informationen unter http://pages.destination.one/de/te
 cklenburger-land-tourismus/streaming/detail/Event/e_101254126/impro-theate
 r-workshop
DTEND;TZID=Europe/Berlin;VALUE=DATE:20261010
DTSTAMP:20260419T190337Z
DTSTART;TZID=Europe/Berlin;VALUE=DATE:20261009
GEO:52.223127;7.678705
LOCATION:Kulturspeicher Dörenthe\, Hafenstraße 14\, Ibbenbüren
ORGANIZER;CN=Kulturspeicher Dörenthe:mailto:newsletter@kulturspeicher-doere
 nthe.de
RRULE:FREQ=WEEKLY;UNTIL=20261011T220000;BYDAY=FR,SA,SU
SEQUENCE:0
SUMMARY:Impro-Theater-Workshop
UID:e_101254126_iv0
URL:http://pages.destination.one/de/tecklenburger-land-tourismus/streaming/
 detail/Event/e_101254126/impro-theater-workshop
END:VEVENT
BEGIN:VTIMEZONE
TZID:Europe/Berlin
X-LIC-LOCATION:Europe/Berlin
BEGIN:DAYLIGHT
DTSTART:19700329T020000
RRULE:FREQ=YEARLY;BYDAY=-1SU;BYMONTH=3
TZNAME:CEST
TZOFFSETFROM:+0100
TZOFFSETTO:+0200
END:DAYLIGHT
BEGIN:STANDARD
DTSTART:19701025T030000
RRULE:FREQ=YEARLY;BYDAY=-1SU;BYMONTH=10
TZNAME:CET
TZOFFSETFROM:+0200
TZOFFSETTO:+0100
END:STANDARD
END:VTIMEZONE
END:VCALENDAR
