BEGIN:VCALENDAR
VERSION:2.0
PRODID:-//destination.one//NONSGML destination.meta API//DE
X-WR-CALDESC:A calendar powered by destination.meta
X-WR-CALNAME:tecklenburger-land-tourismus Kalender via destination.meta
BEGIN:VEVENT
CATEGORIES:Konzert divers
DESCRIPTION:\n\nmehr Informationen unter http://pages.destination.one/de/te
 cklenburger-land-tourismus/streaming/detail/Event/e_101209164/mitsommerkon
 zert-gitarrenkl-nge-zur-sommersonnenwende
DTEND;TZID=Europe/Berlin:20260619T220000
DTSTAMP:20260421T095638Z
DTSTART;TZID=Europe/Berlin:20260619T190000
GEO:52.198663;7.848200
LOCATION:Lengericher Skulpturenpark\, Am Kleeberg 4\, Lengerich
SEQUENCE:0
SUMMARY:Mitsommerkonzert | Gitarrenklänge zur Sommersonnenwende
UID:e_101209164_iv0
URL:http://pages.destination.one/de/tecklenburger-land-tourismus/streaming/
 detail/Event/e_101209164/mitsommerkonzert-gitarrenkl-nge-zur-sommersonnenw
 ende
END:VEVENT
BEGIN:VTIMEZONE
TZID:Europe/Berlin
X-LIC-LOCATION:Europe/Berlin
BEGIN:DAYLIGHT
DTSTART:19700329T020000
RRULE:FREQ=YEARLY;BYDAY=-1SU;BYMONTH=3
TZNAME:CEST
TZOFFSETFROM:+0100
TZOFFSETTO:+0200
END:DAYLIGHT
BEGIN:STANDARD
DTSTART:19701025T030000
RRULE:FREQ=YEARLY;BYDAY=-1SU;BYMONTH=10
TZNAME:CET
TZOFFSETFROM:+0200
TZOFFSETTO:+0100
END:STANDARD
END:VTIMEZONE
END:VCALENDAR
