BEGIN:VCALENDAR
VERSION:2.0
PRODID:-//destination.one//NONSGML destination.meta API//DE
X-WR-CALDESC:A calendar powered by destination.meta
X-WR-CALNAME:tecklenburger-land-tourismus Kalender via destination.meta
BEGIN:VEVENT
CATEGORIES:Ausflug/Exkursion
DESCRIPTION:\n\nmehr Informationen unter http://pages.destination.one/de/te
 cklenburger-land-tourismus/streaming/detail/Event/e_101172538/kirmesexpres
 s-ab-lienen-nach-ibbenb-ren
DTEND;TZID=Europe/Berlin:20260905T213000
DTSTAMP:20260421T094553Z
DTSTART;TZID=Europe/Berlin:20260905T141500
GEO:52.163843;7.980925
LOCATION:Bahnhof Lienen\, Holperdorper Straße\, Lienen
SEQUENCE:0
SUMMARY:Kirmesexpress ab Lienen nach Ibbenbüren
UID:e_101172538_iv0
URL:http://pages.destination.one/de/tecklenburger-land-tourismus/streaming/
 detail/Event/e_101172538/kirmesexpress-ab-lienen-nach-ibbenb-ren
END:VEVENT
BEGIN:VTIMEZONE
TZID:Europe/Berlin
X-LIC-LOCATION:Europe/Berlin
BEGIN:DAYLIGHT
DTSTART:19700329T020000
RRULE:FREQ=YEARLY;BYDAY=-1SU;BYMONTH=3
TZNAME:CEST
TZOFFSETFROM:+0100
TZOFFSETTO:+0200
END:DAYLIGHT
BEGIN:STANDARD
DTSTART:19701025T030000
RRULE:FREQ=YEARLY;BYDAY=-1SU;BYMONTH=10
TZNAME:CET
TZOFFSETFROM:+0200
TZOFFSETTO:+0100
END:STANDARD
END:VTIMEZONE
END:VCALENDAR
