BEGIN:VCALENDAR
VERSION:2.0
PRODID:-//destination.one//NONSGML destination.meta API//DE
X-WR-CALDESC:A calendar powered by destination.meta
X-WR-CALNAME:tecklenburger-land-tourismus Kalender via destination.meta
BEGIN:VEVENT
CATEGORIES:Konzert divers
CATEGORIES:Sonstiges
CATEGORIES:Fest/Ball
DESCRIPTION:\n\nmehr Informationen unter http://pages.destination.one/de/te
 cklenburger-land-tourismus/streaming/detail/Event/e_100798111/sch-tzenfest
 -lienen
DTEND;TZID=Europe/Berlin:20260703T234500
DTSTAMP:20260421T081429Z
DTSTART;TZID=Europe/Berlin:20260703T133000
GEO:52.146724;7.973514
LOCATION:Barfußpark Lienen\, Diekesdamm 1\, Lienen
RRULE:FREQ=WEEKLY;UNTIL=20260705T214500;BYDAY=SA,SU
SEQUENCE:0
SUMMARY:Schützenfest Lienen
UID:e_100798111_iv0
URL:http://pages.destination.one/de/tecklenburger-land-tourismus/streaming/
 detail/Event/e_100798111/sch-tzenfest-lienen
END:VEVENT
BEGIN:VEVENT
CATEGORIES:Konzert divers
CATEGORIES:Sonstiges
CATEGORIES:Fest/Ball
DESCRIPTION:\n\nmehr Informationen unter http://pages.destination.one/de/te
 cklenburger-land-tourismus/streaming/detail/Event/e_100798111/sch-tzenfest
 -lienen
DTEND;TZID=Europe/Berlin:20260703T234500
DTSTAMP:20260421T081429Z
DTSTART;TZID=Europe/Berlin:20260703T150000
GEO:52.146724;7.973514
LOCATION:Barfußpark Lienen\, Diekesdamm 1\, Lienen
RRULE:FREQ=WEEKLY;UNTIL=20260705T214500;BYDAY=FR
SEQUENCE:0
SUMMARY:Schützenfest Lienen
UID:e_100798111_iv1
URL:http://pages.destination.one/de/tecklenburger-land-tourismus/streaming/
 detail/Event/e_100798111/sch-tzenfest-lienen
END:VEVENT
BEGIN:VTIMEZONE
TZID:Europe/Berlin
X-LIC-LOCATION:Europe/Berlin
BEGIN:DAYLIGHT
DTSTART:19700329T020000
RRULE:FREQ=YEARLY;BYDAY=-1SU;BYMONTH=3
TZNAME:CEST
TZOFFSETFROM:+0100
TZOFFSETTO:+0200
END:DAYLIGHT
BEGIN:STANDARD
DTSTART:19701025T030000
RRULE:FREQ=YEARLY;BYDAY=-1SU;BYMONTH=10
TZNAME:CET
TZOFFSETFROM:+0200
TZOFFSETTO:+0100
END:STANDARD
END:VTIMEZONE
END:VCALENDAR
