BEGIN:VCALENDAR
VERSION:2.0
PRODID:-//destination.one//NONSGML destination.meta API//DE
X-WR-CALDESC:A calendar powered by destination.meta
X-WR-CALNAME:tecklenburger-land-tourismus Kalender via destination.meta
BEGIN:VEVENT
CATEGORIES:Kurs/Seminar/Hobby
CATEGORIES:Sport/Freizeit
CATEGORIES:Markt
DESCRIPTION:\n\nmehr Informationen unter http://pages.destination.one/de/te
 cklenburger-land-tourismus/streaming/detail/Event/e_100760447/border-terri
 er-treffen-in-lienen
DTEND;TZID=Europe/Berlin:20260724T235900
DTSTAMP:20260420T095048Z
DTSTART;TZID=Europe/Berlin:20260724T170000
GEO:52.150980;7.938263
LOCATION:ZRFV Lienen\, Nigge Weg\, Lienen
RRULE:FREQ=DAILY;UNTIL=20260726T151500
SEQUENCE:0
SUMMARY:Border-Terrier-Treffen in Lienen
UID:e_100760447_iv0
URL:http://pages.destination.one/de/tecklenburger-land-tourismus/streaming/
 detail/Event/e_100760447/border-terrier-treffen-in-lienen
END:VEVENT
BEGIN:VTIMEZONE
TZID:Europe/Berlin
X-LIC-LOCATION:Europe/Berlin
BEGIN:DAYLIGHT
DTSTART:19700329T020000
RRULE:FREQ=YEARLY;BYDAY=-1SU;BYMONTH=3
TZNAME:CEST
TZOFFSETFROM:+0100
TZOFFSETTO:+0200
END:DAYLIGHT
BEGIN:STANDARD
DTSTART:19701025T030000
RRULE:FREQ=YEARLY;BYDAY=-1SU;BYMONTH=10
TZNAME:CET
TZOFFSETFROM:+0200
TZOFFSETTO:+0100
END:STANDARD
END:VTIMEZONE
END:VCALENDAR
