BEGIN:VCALENDAR
VERSION:2.0
PRODID:-//destination.one//NONSGML destination.meta API//DE
X-WR-CALDESC:A calendar powered by destination.meta
X-WR-CALNAME:tecklenburger-land-tourismus Kalender via destination.meta
BEGIN:VEVENT
CATEGORIES:Fest/Ball
DESCRIPTION:\n\nmehr Informationen unter http://pages.destination.one/de/te
 cklenburger-land-tourismus/streaming/detail/Event/e_100738646/sch-tzenfest
 -ledde-tanzabend-mit-der-party-band-let-s-dance
DTEND;TZID=Europe/Berlin:20260606T235900
DTSTAMP:20260419T175205Z
DTSTART;TZID=Europe/Berlin:20260606T193000
GEO:52.241244;7.811913
LOCATION:Ledder Dorfplatz\, Ledder Dorfstraße 68\, Tecklenburg
ORGANIZER;CN=Schützenverein Ledde Dorf e.V.:mailto:vorstand@schuetzenverein
 -ledde.de
SEQUENCE:0
SUMMARY:Schützenfest Ledde - Tanzabend mit der Party Band Let's Dance !
UID:e_100738646_iv0
URL:http://pages.destination.one/de/tecklenburger-land-tourismus/streaming/
 detail/Event/e_100738646/sch-tzenfest-ledde-tanzabend-mit-der-party-band-l
 et-s-dance
END:VEVENT
BEGIN:VTIMEZONE
TZID:Europe/Berlin
X-LIC-LOCATION:Europe/Berlin
BEGIN:DAYLIGHT
DTSTART:19700329T020000
RRULE:FREQ=YEARLY;BYDAY=-1SU;BYMONTH=3
TZNAME:CEST
TZOFFSETFROM:+0100
TZOFFSETTO:+0200
END:DAYLIGHT
BEGIN:STANDARD
DTSTART:19701025T030000
RRULE:FREQ=YEARLY;BYDAY=-1SU;BYMONTH=10
TZNAME:CET
TZOFFSETFROM:+0200
TZOFFSETTO:+0100
END:STANDARD
END:VTIMEZONE
END:VCALENDAR
