BEGIN:VCALENDAR
VERSION:2.0
PRODID:-//destination.one//NONSGML destination.meta API//DE
X-WR-CALDESC:A calendar powered by destination.meta
X-WR-CALNAME:tecklenburger-land-tourismus Kalender via destination.meta
BEGIN:VEVENT
CATEGORIES:Fest/Ball
DESCRIPTION:eine Nacht voll Glanz und Glamour\n\nmehr Informationen unter h
 ttp://pages.destination.one/de/tecklenburger-land-tourismus/streaming/deta
 il/Event/e_100534271/ball-der-universit-t
DTEND;TZID=Europe/Berlin:20240608T235900
DTSTAMP:20260421T081353Z
DTSTART;TZID=Europe/Berlin:20240608T193000
GEO:52.271746;8.042273
LOCATION:OsnabrückHalle\, Schloßwall 1-9\, Osnabrück
ORGANIZER;CN=Universität Osnabrück:mailto:praesidentin@uni-osnabrueck.de
SEQUENCE:0
SUMMARY:Ball der Universität 
UID:e_100534271_iv0
URL:http://pages.destination.one/de/tecklenburger-land-tourismus/streaming/
 detail/Event/e_100534271/ball-der-universit-t
END:VEVENT
BEGIN:VEVENT
CATEGORIES:Fest/Ball
DESCRIPTION:eine Nacht voll Glanz und Glamour\n\nmehr Informationen unter h
 ttp://pages.destination.one/de/tecklenburger-land-tourismus/streaming/deta
 il/Event/e_100534271/ball-der-universit-t
DTEND;TZID=Europe/Berlin:20250613T235900
DTSTAMP:20260421T081353Z
DTSTART;TZID=Europe/Berlin:20250613T193000
GEO:52.271746;8.042273
LOCATION:OsnabrückHalle\, Schloßwall 1-9\, Osnabrück
ORGANIZER;CN=Universität Osnabrück:mailto:praesidentin@uni-osnabrueck.de
SEQUENCE:0
SUMMARY:Ball der Universität 
UID:e_100534271_iv1
URL:http://pages.destination.one/de/tecklenburger-land-tourismus/streaming/
 detail/Event/e_100534271/ball-der-universit-t
END:VEVENT
BEGIN:VEVENT
CATEGORIES:Fest/Ball
DESCRIPTION:eine Nacht voll Glanz und Glamour\n\nmehr Informationen unter h
 ttp://pages.destination.one/de/tecklenburger-land-tourismus/streaming/deta
 il/Event/e_100534271/ball-der-universit-t
DTEND;TZID=Europe/Berlin:20260605T235900
DTSTAMP:20260421T081353Z
DTSTART;TZID=Europe/Berlin:20260605T200000
GEO:52.271746;8.042273
LOCATION:OsnabrückHalle\, Schloßwall 1-9\, Osnabrück
ORGANIZER;CN=Universität Osnabrück:mailto:praesidentin@uni-osnabrueck.de
SEQUENCE:0
SUMMARY:Ball der Universität 
UID:e_100534271_iv2
URL:http://pages.destination.one/de/tecklenburger-land-tourismus/streaming/
 detail/Event/e_100534271/ball-der-universit-t
END:VEVENT
BEGIN:VTIMEZONE
TZID:Europe/Berlin
X-LIC-LOCATION:Europe/Berlin
BEGIN:DAYLIGHT
DTSTART:19700329T020000
RRULE:FREQ=YEARLY;BYDAY=-1SU;BYMONTH=3
TZNAME:CEST
TZOFFSETFROM:+0100
TZOFFSETTO:+0200
END:DAYLIGHT
BEGIN:STANDARD
DTSTART:19701025T030000
RRULE:FREQ=YEARLY;BYDAY=-1SU;BYMONTH=10
TZNAME:CET
TZOFFSETFROM:+0200
TZOFFSETTO:+0100
END:STANDARD
END:VTIMEZONE
END:VCALENDAR
